BEGIN:VCALENDAR
VERSION:2.0
PRODID:-//ChamberMaster//Event Calendar 2.0//EN
METHOD:PUBLISH
X-PUBLISHED-TTL:P3D
REFRESH-INTERVAL:P3D
CALSCALE:GREGORIAN
BEGIN:VEVENT
DTSTART:20260516T113000Z
DTEND:20260516T140000Z
X-MICROSOFT-CDO-ALLDAYEVENT:FALSE
SUMMARY:Run for Shelter 5K
DESCRIPTION:Run for Shelter 5K Supporting St. James Haven. Join us for a meaningful morning on the trail as we come together to support a great cause! Whether you're running\, walking\, or cheering from the sidelines\, your participation helps make a difference. Course Details: Enjoy a clearly marked out-and-back course along the scenic Ernst Trail perfect for runners and walkers of all levels. Timing: Professional timing provided by Runners High. Awards:   1st\, 2nd\, and 3rd place Male & Female Overall   Prizes for top runners in each age group. Why We Run: All proceeds directly benefit St. James Haven\, supporting their mission to provide shelter and resources to those in need. Grab your friends\, lace up your shoes\, and join us for a great cause!
X-ALT-DESC;FMTTYPE=text/html:Run for Shelter 5K Supporting St. James Haven. Join us for a meaningful morning on the trail as we come together to support a great cause! Whether you&rsquo\;re running\, walking\, or cheering from the sidelines\, your participation helps make a difference. Course Details: Enjoy a clearly marked out-and-back course along the scenic Ernst Trail&mdash\;perfect for runners and walkers of all levels. Timing: Professional timing provided by Runners High. Awards: &bull\; 1st\, 2nd\, and 3rd place Male &amp\; Female Overall &bull\; Prizes for top runners in each age group. Why We Run: All proceeds directly benefit St. James Haven\, supporting their mission to provide shelter and resources to those in need. Grab your friends\, lace up your shoes\, and join us for a great cause!
LOCATION:Location: Ernst Trail Beans Trailhead\, Meadville\, PA
UID:e.712.8699
SEQUENCE:3
DTSTAMP:20260421T095116Z
URL:https://members.meadvillechamber.com/events/details/run-for-shelter-5k-8699
END:VEVENT

END:VCALENDAR
