BEGIN:VCALENDAR
VERSION:2.0
PRODID:-//ChamberMaster//Event Calendar 2.0//EN
METHOD:PUBLISH
X-PUBLISHED-TTL:P3D
REFRESH-INTERVAL:P3D
CALSCALE:GREGORIAN
BEGIN:VEVENT
DTSTART:20260513T190000Z
DTEND:20260513T210000Z
X-MICROSOFT-CDO-ALLDAYEVENT:FALSE
SUMMARY:Ribbon Cutting @ Cata's New Garage
DESCRIPTION:Join us for the Ribbon Cutting for Cata's New Garage & Operations Expansion!\n\n\n\nOfficial Ribbon Cutting at 3:00 PM\n\n\n\nPlease stop by and congratulate them\, take a tour\, have some refreshments & receive a freebie provided by Cata.\n\n\n\nPlease RSVP to Charlotte at cgiovannelli@catabus.org or by calling 814-336-5600 X 116 by May 6th
X-ALT-DESC;FMTTYPE=text/html:<span style="font-family:arial\;">Join us for the Ribbon Cutting for Cata&#39\;s New Garage &amp\; Operations Expansion!<br />\n<br />\nOfficial Ribbon Cutting at 3:00 PM<br />\n<br />\nPlease stop by and congratulate them\, take a tour\, have some refreshments &amp\; receive a freebie provided by Cata.<br />\n<br />\n<span style="text-align: center\; font-size: 12px\;"><span style="color: rgb(0\, 0\, 0)\;">Please RSVP to Charlotte at&nbsp\;</span><a href="mailto:cgiovannelli@catabus.org"><span style="color: rgb(0\, 0\, 0)\;">cgiovannelli@catabus.org</span></a><span style="color: rgb(0\, 0\, 0)\;">&nbsp\;or by calling&nbsp\;</span></span><span style="text-align: center\; font-size: 12px\;"><span style="color: rgb(0\, 0\, 0)\;">814-336-5600 X 116&nbsp\;by May 6th</span></span></span>
LOCATION:18279 Rogers Ferry Road Meadville PA 16335
UID:e.712.8696
SEQUENCE:3
DTSTAMP:20260421T100759Z
URL:https://members.meadvillechamber.com/events/details/ribbon-cutting-cata-s-new-garage-8696
END:VEVENT

END:VCALENDAR
